BEGIN:VCALENDAR
VERSION:2.0
PRODID:-//Tangosummer - ECPv6.15.20//NONSGML v1.0//EN
CALSCALE:GREGORIAN
METHOD:PUBLISH
X-ORIGINAL-URL:https://tangosummer.com
X-WR-CALDESC:Veranstaltungen für Tangosummer
REFRESH-INTERVAL;VALUE=DURATION:PT1H
X-Robots-Tag:noindex
X-PUBLISHED-TTL:PT1H
BEGIN:VTIMEZONE
TZID:Europe/Berlin
BEGIN:DAYLIGHT
TZOFFSETFROM:+0100
TZOFFSETTO:+0200
TZNAME:CEST
DTSTART:20250330T010000
END:DAYLIGHT
BEGIN:STANDARD
TZOFFSETFROM:+0200
TZOFFSETTO:+0100
TZNAME:CET
DTSTART:20251026T010000
END:STANDARD
BEGIN:DAYLIGHT
TZOFFSETFROM:+0100
TZOFFSETTO:+0200
TZNAME:CEST
DTSTART:20260329T010000
END:DAYLIGHT
BEGIN:STANDARD
TZOFFSETFROM:+0200
TZOFFSETTO:+0100
TZNAME:CET
DTSTART:20261025T010000
END:STANDARD
BEGIN:DAYLIGHT
TZOFFSETFROM:+0100
TZOFFSETTO:+0200
TZNAME:CEST
DTSTART:20270328T010000
END:DAYLIGHT
BEGIN:STANDARD
TZOFFSETFROM:+0200
TZOFFSETTO:+0100
TZNAME:CET
DTSTART:20271031T010000
END:STANDARD
END:VTIMEZONE
BEGIN:VEVENT
DTSTART;TZID=Europe/Berlin:20260716T200000
DTEND;TZID=Europe/Berlin:20260716T235900
DTSTAMP:20260421T114732
CREATED:20260325T160317Z
LAST-MODIFIED:20260411T144200Z
UID:10000088-1784232000-1784246340@tangosummer.com
SUMMARY:Pre Milonga
DESCRIPTION:Die Opening Milonga für den Tangosummer 2026 \nFür Alle die bereits einen Tag früher anreisen und Lust haben mit uns gemeinsam in den Tangosummer hinein zu tanzen mit DJ Pasión – Musik mit 70% Non\, Nuevo und Neo und 30% traditioneller Musik als Cortinas nach den 3er Tandas. \n350m² bester Parkettboden\, voll klimatisiert und einer fantastischen Sound und Light Qualität. \nDJ Achim Schaller aka DJ Pasión \n \n 
URL:https://tangosummer.com/event/pre-opening-milonga/
LOCATION:TSG Fechenheim\, Pfortenstrasse 55\, Frankfurt\, Hessen\, 60386\, Germany
CATEGORIES:Festival,Milonga,Neo,Nuevo,Salon
ATTACH;FMTTYPE=image/jpeg:https://tangosummer.com/wp-content/uploads/2026/03/2026generated-image.jpg
END:VEVENT
BEGIN:VEVENT
DTSTART;TZID=Europe/Berlin:20260717T190000
DTEND;TZID=Europe/Berlin:20260717T235900
DTSTAMP:20260421T114732
CREATED:20260325T174437Z
LAST-MODIFIED:20260402T182024Z
UID:10000098-1784314800-1784332740@tangosummer.com
SUMMARY:Opening Milonga
DESCRIPTION:Tauche ein in den Néo-Salón beim Festival Tango Summer in the City! Moderne Tango-Innovationen in Salon-Atmosphäre – kreative Flows\, Neo-Elemente und pure Tanzleidenschaft. Komm zur Fusion von  2 DJ’s und 70% non/ neo und 30% traditional tracks! \n350m² bester Parkettboden\, voll klimatisiert und einer fantastischen Sound und Light Qualität. \nAndreas Broicher aka TangoBro & Achim Schaller aka DJ Pasión \n   
URL:https://tangosummer.com/event/opening-milonga/
LOCATION:TSG Fechenheim\, Pfortenstrasse 55\, Frankfurt\, Hessen\, 60386\, Germany
CATEGORIES:Festival,Milonga,Neo,Non,Nuevo
ATTACH;FMTTYPE=image/png:https://tangosummer.com/wp-content/uploads/2026/03/NeoSalon-Milonga.png
END:VEVENT
BEGIN:VEVENT
DTSTART;TZID=Europe/Berlin:20260718T150000
DTEND;TZID=Europe/Berlin:20260718T180000
DTSTAMP:20260421T114732
CREATED:20260318T140018Z
LAST-MODIFIED:20260402T182015Z
UID:10000071-1784386800-1784397600@tangosummer.com
SUMMARY:Non Tango Milonga
DESCRIPTION:Non-Tango Milonga beim Festival Tango Summer in the City! Lass los mit Vals\, Milonga und mehr – erweitere Deine Horizonte in entspannter\, freudvoller Milonga-Stimmung. Tanze ohne Grenzen (Tango Calendar) 100% Neo / Non \nDJ Marcus Bisten
URL:https://tangosummer.com/event/non-tango-milonga/
LOCATION:TSG Fechenheim\, Pfortenstrasse 55\, Frankfurt\, Hessen\, 60386\, Germany
CATEGORIES:Festival,Milonga,Non
ATTACH;FMTTYPE=image/jpeg:https://tangosummer.com/wp-content/uploads/2026/03/2026generated-image-4.jpg
ORGANIZER;CN="Tangosummer in the City":MAILTO:tangosummer2026@schaller.rocks
END:VEVENT
BEGIN:VEVENT
DTSTART;TZID=Europe/Berlin:20260718T200000
DTEND;TZID=Europe/Berlin:20260719T010000
DTSTAMP:20260421T114732
CREATED:20260325T174823Z
LAST-MODIFIED:20260402T182008Z
UID:10000099-1784404800-1784422800@tangosummer.com
SUMMARY:Gran Milonga
DESCRIPTION:Die Gran Tangosummer Milonga – Höhepunkt des Festivals Tango Summer in the City! Eine epische Nacht mit goldenen Hits und unvergessliche Verbindungen. Feiere das große Tango-Sommer Festival mit Fotostand (von ab 19h00)\, Life Shows und vielem mehr! Eine epische Nacht mit goldenen Hits und unvergessliche Verbindungen. \n70% traditional tracks and 30% neo/nuevo and non\nDJ Jonas Maria Joma\nVJ Marcus Bisten
URL:https://tangosummer.com/event/gran-milonga/
LOCATION:TSG Fechenheim\, Pfortenstrasse 55\, Frankfurt\, Hessen\, 60386\, Germany
CATEGORIES:Festival,Milonga,Salon
ATTACH;FMTTYPE=image/jpeg:https://tangosummer.com/wp-content/uploads/2026/03/2026generated-image.jpg
END:VEVENT
END:VCALENDAR